BEGIN:VCALENDAR
VERSION:2.0
PRODID:-//Future 5 - ECPv6.15.20//NONSGML v1.0//EN
CALSCALE:GREGORIAN
METHOD:PUBLISH
X-WR-CALNAME:Future 5
X-ORIGINAL-URL:https://futurefive.org
X-WR-CALDESC:Events for Future 5
REFRESH-INTERVAL;VALUE=DURATION:PT1H
X-Robots-Tag:noindex
X-PUBLISHED-TTL:PT1H
BEGIN:VTIMEZONE
TZID:UTC
BEGIN:STANDARD
TZOFFSETFROM:+0000
TZOFFSETTO:+0000
TZNAME:UTC
DTSTART:20250101T000000
END:STANDARD
END:VTIMEZONE
BEGIN:VEVENT
DTSTART;TZID=UTC:20260420T163000
DTEND;TZID=UTC:20260420T180000
DTSTAMP:20260419T134815
CREATED:20251106T233658Z
LAST-MODIFIED:20260210T190910Z
UID:10007049-1776702600-1776708000@futurefive.org
SUMMARY:Math Tutor Office Hours
DESCRIPTION:To sign up for this event\, click here.
URL:https://futurefive.org/event/math-tutor-office-hours-2/2026-04-20/
LOCATION:Future 5
CATEGORIES:Academics,High School Programing
ATTACH;FMTTYPE=image/png:https://futurefive.org/wp-content/uploads/2025/11/High-School-Programing_Math-Tutor-Office-Hours.png
END:VEVENT
BEGIN:VEVENT
DTSTART;TZID=UTC:20260427T163000
DTEND;TZID=UTC:20260427T180000
DTSTAMP:20260419T134815
CREATED:20251106T233658Z
LAST-MODIFIED:20260210T190910Z
UID:10007050-1777307400-1777312800@futurefive.org
SUMMARY:Math Tutor Office Hours
DESCRIPTION:To sign up for this event\, click here.
URL:https://futurefive.org/event/math-tutor-office-hours-2/2026-04-27/
LOCATION:Future 5
CATEGORIES:Academics,High School Programing
ATTACH;FMTTYPE=image/png:https://futurefive.org/wp-content/uploads/2025/11/High-School-Programing_Math-Tutor-Office-Hours.png
END:VEVENT
BEGIN:VEVENT
DTSTART;TZID=UTC:20260504T163000
DTEND;TZID=UTC:20260504T180000
DTSTAMP:20260419T134815
CREATED:20251106T233658Z
LAST-MODIFIED:20260210T190910Z
UID:10007051-1777912200-1777917600@futurefive.org
SUMMARY:Math Tutor Office Hours
DESCRIPTION:To sign up for this event\, click here.
URL:https://futurefive.org/event/math-tutor-office-hours-2/2026-05-04/
LOCATION:Future 5
CATEGORIES:Academics,High School Programing
ATTACH;FMTTYPE=image/png:https://futurefive.org/wp-content/uploads/2025/11/High-School-Programing_Math-Tutor-Office-Hours.png
END:VEVENT
BEGIN:VEVENT
DTSTART;TZID=UTC:20260511T163000
DTEND;TZID=UTC:20260511T180000
DTSTAMP:20260419T134815
CREATED:20251106T233658Z
LAST-MODIFIED:20260210T190910Z
UID:10007052-1778517000-1778522400@futurefive.org
SUMMARY:Math Tutor Office Hours
DESCRIPTION:To sign up for this event\, click here.
URL:https://futurefive.org/event/math-tutor-office-hours-2/2026-05-11/
LOCATION:Future 5
CATEGORIES:Academics,High School Programing
ATTACH;FMTTYPE=image/png:https://futurefive.org/wp-content/uploads/2025/11/High-School-Programing_Math-Tutor-Office-Hours.png
END:VEVENT
BEGIN:VEVENT
DTSTART;TZID=UTC:20260518T163000
DTEND;TZID=UTC:20260518T180000
DTSTAMP:20260419T134815
CREATED:20251106T233658Z
LAST-MODIFIED:20260210T190910Z
UID:10007053-1779121800-1779127200@futurefive.org
SUMMARY:Math Tutor Office Hours
DESCRIPTION:To sign up for this event\, click here.
URL:https://futurefive.org/event/math-tutor-office-hours-2/2026-05-18/
LOCATION:Future 5
CATEGORIES:Academics,High School Programing
ATTACH;FMTTYPE=image/png:https://futurefive.org/wp-content/uploads/2025/11/High-School-Programing_Math-Tutor-Office-Hours.png
END:VEVENT
BEGIN:VEVENT
DTSTART;TZID=UTC:20260525T163000
DTEND;TZID=UTC:20260525T180000
DTSTAMP:20260419T134815
CREATED:20251106T233658Z
LAST-MODIFIED:20260210T190910Z
UID:10007054-1779726600-1779732000@futurefive.org
SUMMARY:Math Tutor Office Hours
DESCRIPTION:To sign up for this event\, click here.
URL:https://futurefive.org/event/math-tutor-office-hours-2/2026-05-25/
LOCATION:Future 5
CATEGORIES:Academics,High School Programing
ATTACH;FMTTYPE=image/png:https://futurefive.org/wp-content/uploads/2025/11/High-School-Programing_Math-Tutor-Office-Hours.png
END:VEVENT
BEGIN:VEVENT
DTSTART;TZID=UTC:20260601T163000
DTEND;TZID=UTC:20260601T180000
DTSTAMP:20260419T134815
CREATED:20251106T233658Z
LAST-MODIFIED:20260210T190910Z
UID:10007055-1780331400-1780336800@futurefive.org
SUMMARY:Math Tutor Office Hours
DESCRIPTION:To sign up for this event\, click here.
URL:https://futurefive.org/event/math-tutor-office-hours-2/2026-06-01/
LOCATION:Future 5
CATEGORIES:Academics,High School Programing
ATTACH;FMTTYPE=image/png:https://futurefive.org/wp-content/uploads/2025/11/High-School-Programing_Math-Tutor-Office-Hours.png
END:VEVENT
BEGIN:VEVENT
DTSTART;TZID=UTC:20260608T163000
DTEND;TZID=UTC:20260608T180000
DTSTAMP:20260419T134815
CREATED:20251106T233658Z
LAST-MODIFIED:20260210T190910Z
UID:10007056-1780936200-1780941600@futurefive.org
SUMMARY:Math Tutor Office Hours
DESCRIPTION:To sign up for this event\, click here.
URL:https://futurefive.org/event/math-tutor-office-hours-2/2026-06-08/
LOCATION:Future 5
CATEGORIES:Academics,High School Programing
ATTACH;FMTTYPE=image/png:https://futurefive.org/wp-content/uploads/2025/11/High-School-Programing_Math-Tutor-Office-Hours.png
END:VEVENT
BEGIN:VEVENT
DTSTART;TZID=UTC:20260615T163000
DTEND;TZID=UTC:20260615T180000
DTSTAMP:20260419T134815
CREATED:20251106T233658Z
LAST-MODIFIED:20260210T190910Z
UID:10007057-1781541000-1781546400@futurefive.org
SUMMARY:Math Tutor Office Hours
DESCRIPTION:To sign up for this event\, click here.
URL:https://futurefive.org/event/math-tutor-office-hours-2/2026-06-15/
LOCATION:Future 5
CATEGORIES:Academics,High School Programing
ATTACH;FMTTYPE=image/png:https://futurefive.org/wp-content/uploads/2025/11/High-School-Programing_Math-Tutor-Office-Hours.png
END:VEVENT
BEGIN:VEVENT
DTSTART;TZID=UTC:20260622T163000
DTEND;TZID=UTC:20260622T180000
DTSTAMP:20260419T134815
CREATED:20251106T233658Z
LAST-MODIFIED:20260210T190910Z
UID:10007058-1782145800-1782151200@futurefive.org
SUMMARY:Math Tutor Office Hours
DESCRIPTION:To sign up for this event\, click here.
URL:https://futurefive.org/event/math-tutor-office-hours-2/2026-06-22/
LOCATION:Future 5
CATEGORIES:Academics,High School Programing
ATTACH;FMTTYPE=image/png:https://futurefive.org/wp-content/uploads/2025/11/High-School-Programing_Math-Tutor-Office-Hours.png
END:VEVENT
BEGIN:VEVENT
DTSTART;TZID=UTC:20260629T163000
DTEND;TZID=UTC:20260629T180000
DTSTAMP:20260419T134815
CREATED:20251106T233658Z
LAST-MODIFIED:20260210T190910Z
UID:10007059-1782750600-1782756000@futurefive.org
SUMMARY:Math Tutor Office Hours
DESCRIPTION:To sign up for this event\, click here.
URL:https://futurefive.org/event/math-tutor-office-hours-2/2026-06-29/
LOCATION:Future 5
CATEGORIES:Academics,High School Programing
ATTACH;FMTTYPE=image/png:https://futurefive.org/wp-content/uploads/2025/11/High-School-Programing_Math-Tutor-Office-Hours.png
END:VEVENT
BEGIN:VEVENT
DTSTART;TZID=UTC:20260706T163000
DTEND;TZID=UTC:20260706T180000
DTSTAMP:20260419T134815
CREATED:20251106T233658Z
LAST-MODIFIED:20260210T190910Z
UID:10007060-1783355400-1783360800@futurefive.org
SUMMARY:Math Tutor Office Hours
DESCRIPTION:To sign up for this event\, click here.
URL:https://futurefive.org/event/math-tutor-office-hours-2/2026-07-06/
LOCATION:Future 5
CATEGORIES:Academics,High School Programing
ATTACH;FMTTYPE=image/png:https://futurefive.org/wp-content/uploads/2025/11/High-School-Programing_Math-Tutor-Office-Hours.png
END:VEVENT
BEGIN:VEVENT
DTSTART;TZID=UTC:20260713T163000
DTEND;TZID=UTC:20260713T180000
DTSTAMP:20260419T134815
CREATED:20251106T233658Z
LAST-MODIFIED:20260210T190910Z
UID:10007061-1783960200-1783965600@futurefive.org
SUMMARY:Math Tutor Office Hours
DESCRIPTION:To sign up for this event\, click here.
URL:https://futurefive.org/event/math-tutor-office-hours-2/2026-07-13/
LOCATION:Future 5
CATEGORIES:Academics,High School Programing
ATTACH;FMTTYPE=image/png:https://futurefive.org/wp-content/uploads/2025/11/High-School-Programing_Math-Tutor-Office-Hours.png
END:VEVENT
BEGIN:VEVENT
DTSTART;TZID=UTC:20260720T163000
DTEND;TZID=UTC:20260720T180000
DTSTAMP:20260419T134815
CREATED:20251106T233658Z
LAST-MODIFIED:20260210T190910Z
UID:10007062-1784565000-1784570400@futurefive.org
SUMMARY:Math Tutor Office Hours
DESCRIPTION:To sign up for this event\, click here.
URL:https://futurefive.org/event/math-tutor-office-hours-2/2026-07-20/
LOCATION:Future 5
CATEGORIES:Academics,High School Programing
ATTACH;FMTTYPE=image/png:https://futurefive.org/wp-content/uploads/2025/11/High-School-Programing_Math-Tutor-Office-Hours.png
END:VEVENT
BEGIN:VEVENT
DTSTART;TZID=UTC:20260727T163000
DTEND;TZID=UTC:20260727T180000
DTSTAMP:20260419T134815
CREATED:20251106T233658Z
LAST-MODIFIED:20260210T190910Z
UID:10007063-1785169800-1785175200@futurefive.org
SUMMARY:Math Tutor Office Hours
DESCRIPTION:To sign up for this event\, click here.
URL:https://futurefive.org/event/math-tutor-office-hours-2/2026-07-27/
LOCATION:Future 5
CATEGORIES:Academics,High School Programing
ATTACH;FMTTYPE=image/png:https://futurefive.org/wp-content/uploads/2025/11/High-School-Programing_Math-Tutor-Office-Hours.png
END:VEVENT
BEGIN:VEVENT
DTSTART;TZID=UTC:20260803T163000
DTEND;TZID=UTC:20260803T180000
DTSTAMP:20260419T134815
CREATED:20251106T233658Z
LAST-MODIFIED:20260210T190910Z
UID:10007064-1785774600-1785780000@futurefive.org
SUMMARY:Math Tutor Office Hours
DESCRIPTION:To sign up for this event\, click here.
URL:https://futurefive.org/event/math-tutor-office-hours-2/2026-08-03/
LOCATION:Future 5
CATEGORIES:Academics,High School Programing
ATTACH;FMTTYPE=image/png:https://futurefive.org/wp-content/uploads/2025/11/High-School-Programing_Math-Tutor-Office-Hours.png
END:VEVENT
BEGIN:VEVENT
DTSTART;TZID=UTC:20260810T163000
DTEND;TZID=UTC:20260810T180000
DTSTAMP:20260419T134815
CREATED:20251106T233658Z
LAST-MODIFIED:20260210T190910Z
UID:10007065-1786379400-1786384800@futurefive.org
SUMMARY:Math Tutor Office Hours
DESCRIPTION:To sign up for this event\, click here.
URL:https://futurefive.org/event/math-tutor-office-hours-2/2026-08-10/
LOCATION:Future 5
CATEGORIES:Academics,High School Programing
ATTACH;FMTTYPE=image/png:https://futurefive.org/wp-content/uploads/2025/11/High-School-Programing_Math-Tutor-Office-Hours.png
END:VEVENT
BEGIN:VEVENT
DTSTART;TZID=UTC:20260817T163000
DTEND;TZID=UTC:20260817T180000
DTSTAMP:20260419T134815
CREATED:20251106T233658Z
LAST-MODIFIED:20260210T190910Z
UID:10007066-1786984200-1786989600@futurefive.org
SUMMARY:Math Tutor Office Hours
DESCRIPTION:To sign up for this event\, click here.
URL:https://futurefive.org/event/math-tutor-office-hours-2/2026-08-17/
LOCATION:Future 5
CATEGORIES:Academics,High School Programing
ATTACH;FMTTYPE=image/png:https://futurefive.org/wp-content/uploads/2025/11/High-School-Programing_Math-Tutor-Office-Hours.png
END:VEVENT
BEGIN:VEVENT
DTSTART;TZID=UTC:20260824T163000
DTEND;TZID=UTC:20260824T180000
DTSTAMP:20260419T134815
CREATED:20251106T233658Z
LAST-MODIFIED:20260210T190910Z
UID:10007067-1787589000-1787594400@futurefive.org
SUMMARY:Math Tutor Office Hours
DESCRIPTION:To sign up for this event\, click here.
URL:https://futurefive.org/event/math-tutor-office-hours-2/2026-08-24/
LOCATION:Future 5
CATEGORIES:Academics,High School Programing
ATTACH;FMTTYPE=image/png:https://futurefive.org/wp-content/uploads/2025/11/High-School-Programing_Math-Tutor-Office-Hours.png
END:VEVENT
BEGIN:VEVENT
DTSTART;TZID=UTC:20260831T163000
DTEND;TZID=UTC:20260831T180000
DTSTAMP:20260419T134815
CREATED:20251106T233658Z
LAST-MODIFIED:20260210T190910Z
UID:10007068-1788193800-1788199200@futurefive.org
SUMMARY:Math Tutor Office Hours
DESCRIPTION:To sign up for this event\, click here.
URL:https://futurefive.org/event/math-tutor-office-hours-2/2026-08-31/
LOCATION:Future 5
CATEGORIES:Academics,High School Programing
ATTACH;FMTTYPE=image/png:https://futurefive.org/wp-content/uploads/2025/11/High-School-Programing_Math-Tutor-Office-Hours.png
END:VEVENT
BEGIN:VEVENT
DTSTART;TZID=UTC:20260907T163000
DTEND;TZID=UTC:20260907T180000
DTSTAMP:20260419T134815
CREATED:20251106T233658Z
LAST-MODIFIED:20260210T190910Z
UID:10007069-1788798600-1788804000@futurefive.org
SUMMARY:Math Tutor Office Hours
DESCRIPTION:To sign up for this event\, click here.
URL:https://futurefive.org/event/math-tutor-office-hours-2/2026-09-07/
LOCATION:Future 5
CATEGORIES:Academics,High School Programing
ATTACH;FMTTYPE=image/png:https://futurefive.org/wp-content/uploads/2025/11/High-School-Programing_Math-Tutor-Office-Hours.png
END:VEVENT
BEGIN:VEVENT
DTSTART;TZID=UTC:20260914T163000
DTEND;TZID=UTC:20260914T180000
DTSTAMP:20260419T134815
CREATED:20251106T233658Z
LAST-MODIFIED:20260210T190910Z
UID:10007070-1789403400-1789408800@futurefive.org
SUMMARY:Math Tutor Office Hours
DESCRIPTION:To sign up for this event\, click here.
URL:https://futurefive.org/event/math-tutor-office-hours-2/2026-09-14/
LOCATION:Future 5
CATEGORIES:Academics,High School Programing
ATTACH;FMTTYPE=image/png:https://futurefive.org/wp-content/uploads/2025/11/High-School-Programing_Math-Tutor-Office-Hours.png
END:VEVENT
BEGIN:VEVENT
DTSTART;TZID=UTC:20260921T163000
DTEND;TZID=UTC:20260921T180000
DTSTAMP:20260419T134815
CREATED:20251106T233658Z
LAST-MODIFIED:20260210T190910Z
UID:10007071-1790008200-1790013600@futurefive.org
SUMMARY:Math Tutor Office Hours
DESCRIPTION:To sign up for this event\, click here.
URL:https://futurefive.org/event/math-tutor-office-hours-2/2026-09-21/
LOCATION:Future 5
CATEGORIES:Academics,High School Programing
ATTACH;FMTTYPE=image/png:https://futurefive.org/wp-content/uploads/2025/11/High-School-Programing_Math-Tutor-Office-Hours.png
END:VEVENT
BEGIN:VEVENT
DTSTART;TZID=UTC:20260928T163000
DTEND;TZID=UTC:20260928T180000
DTSTAMP:20260419T134815
CREATED:20251106T233658Z
LAST-MODIFIED:20260210T190910Z
UID:10007072-1790613000-1790618400@futurefive.org
SUMMARY:Math Tutor Office Hours
DESCRIPTION:To sign up for this event\, click here.
URL:https://futurefive.org/event/math-tutor-office-hours-2/2026-09-28/
LOCATION:Future 5
CATEGORIES:Academics,High School Programing
ATTACH;FMTTYPE=image/png:https://futurefive.org/wp-content/uploads/2025/11/High-School-Programing_Math-Tutor-Office-Hours.png
END:VEVENT
BEGIN:VEVENT
DTSTART;TZID=UTC:20261005T163000
DTEND;TZID=UTC:20261005T180000
DTSTAMP:20260419T134815
CREATED:20251106T233658Z
LAST-MODIFIED:20260210T190910Z
UID:10007073-1791217800-1791223200@futurefive.org
SUMMARY:Math Tutor Office Hours
DESCRIPTION:To sign up for this event\, click here.
URL:https://futurefive.org/event/math-tutor-office-hours-2/2026-10-05/
LOCATION:Future 5
CATEGORIES:Academics,High School Programing
ATTACH;FMTTYPE=image/png:https://futurefive.org/wp-content/uploads/2025/11/High-School-Programing_Math-Tutor-Office-Hours.png
END:VEVENT
BEGIN:VEVENT
DTSTART;TZID=UTC:20261012T163000
DTEND;TZID=UTC:20261012T180000
DTSTAMP:20260419T134815
CREATED:20251106T233658Z
LAST-MODIFIED:20260210T190910Z
UID:10007074-1791822600-1791828000@futurefive.org
SUMMARY:Math Tutor Office Hours
DESCRIPTION:To sign up for this event\, click here.
URL:https://futurefive.org/event/math-tutor-office-hours-2/2026-10-12/
LOCATION:Future 5
CATEGORIES:Academics,High School Programing
ATTACH;FMTTYPE=image/png:https://futurefive.org/wp-content/uploads/2025/11/High-School-Programing_Math-Tutor-Office-Hours.png
END:VEVENT
BEGIN:VEVENT
DTSTART;TZID=UTC:20261019T163000
DTEND;TZID=UTC:20261019T180000
DTSTAMP:20260419T134815
CREATED:20251106T233658Z
LAST-MODIFIED:20260210T190910Z
UID:10007075-1792427400-1792432800@futurefive.org
SUMMARY:Math Tutor Office Hours
DESCRIPTION:To sign up for this event\, click here.
URL:https://futurefive.org/event/math-tutor-office-hours-2/2026-10-19/
LOCATION:Future 5
CATEGORIES:Academics,High School Programing
ATTACH;FMTTYPE=image/png:https://futurefive.org/wp-content/uploads/2025/11/High-School-Programing_Math-Tutor-Office-Hours.png
END:VEVENT
BEGIN:VEVENT
DTSTART;TZID=UTC:20261026T163000
DTEND;TZID=UTC:20261026T180000
DTSTAMP:20260419T134815
CREATED:20251106T233658Z
LAST-MODIFIED:20260210T190910Z
UID:10007076-1793032200-1793037600@futurefive.org
SUMMARY:Math Tutor Office Hours
DESCRIPTION:To sign up for this event\, click here.
URL:https://futurefive.org/event/math-tutor-office-hours-2/2026-10-26/
LOCATION:Future 5
CATEGORIES:Academics,High School Programing
ATTACH;FMTTYPE=image/png:https://futurefive.org/wp-content/uploads/2025/11/High-School-Programing_Math-Tutor-Office-Hours.png
END:VEVENT
BEGIN:VEVENT
DTSTART;TZID=UTC:20261102T163000
DTEND;TZID=UTC:20261102T180000
DTSTAMP:20260419T134815
CREATED:20251106T233658Z
LAST-MODIFIED:20260210T190910Z
UID:10007077-1793637000-1793642400@futurefive.org
SUMMARY:Math Tutor Office Hours
DESCRIPTION:To sign up for this event\, click here.
URL:https://futurefive.org/event/math-tutor-office-hours-2/2026-11-02/
LOCATION:Future 5
CATEGORIES:Academics,High School Programing
ATTACH;FMTTYPE=image/png:https://futurefive.org/wp-content/uploads/2025/11/High-School-Programing_Math-Tutor-Office-Hours.png
END:VEVENT
BEGIN:VEVENT
DTSTART;TZID=UTC:20261109T163000
DTEND;TZID=UTC:20261109T180000
DTSTAMP:20260419T134815
CREATED:20251106T233658Z
LAST-MODIFIED:20260210T190910Z
UID:10007078-1794241800-1794247200@futurefive.org
SUMMARY:Math Tutor Office Hours
DESCRIPTION:To sign up for this event\, click here.
URL:https://futurefive.org/event/math-tutor-office-hours-2/2026-11-09/
LOCATION:Future 5
CATEGORIES:Academics,High School Programing
ATTACH;FMTTYPE=image/png:https://futurefive.org/wp-content/uploads/2025/11/High-School-Programing_Math-Tutor-Office-Hours.png
END:VEVENT
END:VCALENDAR