BEGIN:VCALENDAR
VERSION:2.0
PRODID:-//Future 5 - ECPv6.15.20//NONSGML v1.0//EN
CALSCALE:GREGORIAN
METHOD:PUBLISH
X-ORIGINAL-URL:https://futurefive.org
X-WR-CALDESC:Events for Future 5
REFRESH-INTERVAL;VALUE=DURATION:PT1H
X-Robots-Tag:noindex
X-PUBLISHED-TTL:PT1H
BEGIN:VTIMEZONE
TZID:UTC
BEGIN:STANDARD
TZOFFSETFROM:+0000
TZOFFSETTO:+0000
TZNAME:UTC
DTSTART:20250101T000000
END:STANDARD
END:VTIMEZONE
BEGIN:VEVENT
DTSTART;TZID=UTC:20260424T153000
DTEND;TZID=UTC:20260424T163000
DTSTAMP:20260422T050910
CREATED:20260211T001313Z
LAST-MODIFIED:20260211T001315Z
UID:10008465-1777044600-1777048200@futurefive.org
SUMMARY:Pickleball
DESCRIPTION:Join us as we head over to Pickleball America at the mall! Be sure to bring some comfortable clothes and sneakers to change into. \nContact Alex for more information.
URL:https://futurefive.org/event/pickleball-2-2/2026-04-24/
CATEGORIES:Health & Wellness,High School Programing
ATTACH;FMTTYPE=image/png:https://futurefive.org/wp-content/uploads/2025/10/High-School-Programing_Health-and-Wellness_Pickleball.png
END:VEVENT
END:VCALENDAR