BEGIN:VCALENDAR
VERSION:2.0
PRODID:-//Future 5 - ECPv6.15.20//NONSGML v1.0//EN
CALSCALE:GREGORIAN
METHOD:PUBLISH
X-WR-CALNAME:Future 5
X-ORIGINAL-URL:https://futurefive.org
X-WR-CALDESC:Events for Future 5
REFRESH-INTERVAL;VALUE=DURATION:PT1H
X-Robots-Tag:noindex
X-PUBLISHED-TTL:PT1H
BEGIN:VTIMEZONE
TZID:UTC
BEGIN:STANDARD
TZOFFSETFROM:+0000
TZOFFSETTO:+0000
TZNAME:UTC
DTSTART:20250101T000000
END:STANDARD
END:VTIMEZONE
BEGIN:VEVENT
DTSTART;TZID=UTC:20260414T140000
DTEND;TZID=UTC:20260414T170000
DTSTAMP:20260424T065121
CREATED:20260210T183953Z
LAST-MODIFIED:20260210T190239Z
UID:10005732-1776175200-1776186000@futurefive.org
SUMMARY:English Tutor Office Hours
DESCRIPTION:To sign up for this event\, click here.
URL:https://futurefive.org/event/english-tutor-office-hours-2-2/2026-04-14/
LOCATION:Future 5
CATEGORIES:Academics,High School Programing
ATTACH;FMTTYPE=image/png:https://futurefive.org/wp-content/uploads/2025/11/High-School-Programing_English-Tutor-Office-Hours-2.png
END:VEVENT
BEGIN:VEVENT
DTSTART;TZID=UTC:20260414T150000
DTEND;TZID=UTC:20260414T160000
DTSTAMP:20260424T065121
CREATED:20260211T002056Z
LAST-MODIFIED:20260211T002308Z
UID:10008723-1776178800-1776182400@futurefive.org
SUMMARY:Brainwave
DESCRIPTION:Brainwave is a weekly workshop created and led by Clif McFeely\, the founder of Future 5. At its core\, it’s a space where students dive deep into current events — local\, national\, and global — and challenge themselves to think “outside the box.” \nRather than just consuming the news\, Brainwave encourages active engagement\, debate\, and reflection. Participants don’t just read headlines — they analyze causes\, implications\, and how ideas intersect across social\, political\, technological\, and cultural spheres. \nTo sign up for this event\, click here.
URL:https://futurefive.org/event/brainwave-3-2/2026-04-14/
CATEGORIES:Enrichment,High School Programing
ATTACH;FMTTYPE=image/png:https://futurefive.org/wp-content/uploads/2025/10/High-School-Programing_Enrichment_Brainwave.png
END:VEVENT
END:VCALENDAR