BEGIN:VCALENDAR
VERSION:2.0
PRODID:-//Future 5 - ECPv6.15.20//NONSGML v1.0//EN
CALSCALE:GREGORIAN
METHOD:PUBLISH
X-WR-CALNAME:Future 5
X-ORIGINAL-URL:https://futurefive.org
X-WR-CALDESC:Events for Future 5
REFRESH-INTERVAL;VALUE=DURATION:PT1H
X-Robots-Tag:noindex
X-PUBLISHED-TTL:PT1H
BEGIN:VTIMEZONE
TZID:UTC
BEGIN:STANDARD
TZOFFSETFROM:+0000
TZOFFSETTO:+0000
TZNAME:UTC
DTSTART:20250101T000000
END:STANDARD
END:VTIMEZONE
BEGIN:VEVENT
DTSTART;TZID=UTC:20260413T140000
DTEND;TZID=UTC:20260413T170000
DTSTAMP:20260422T062808
CREATED:20251106T222321Z
LAST-MODIFIED:20260210T190636Z
UID:10006787-1776088800-1776099600@futurefive.org
SUMMARY:English Tutor Office Hours
DESCRIPTION:To sign up for this event\, click here.
URL:https://futurefive.org/event/english-tutor-office-hours-4/2026-04-13/
LOCATION:Future 5
CATEGORIES:Academics,High School Programing
ATTACH;FMTTYPE=image/png:https://futurefive.org/wp-content/uploads/2025/11/High-School-Programing_English-Tutor-Office-Hours-3.png
END:VEVENT
BEGIN:VEVENT
DTSTART;TZID=UTC:20260413T153000
DTEND;TZID=UTC:20260413T173000
DTSTAMP:20260422T062808
CREATED:20251106T235958Z
LAST-MODIFIED:20260210T191450Z
UID:10008000-1776094200-1776101400@futurefive.org
SUMMARY:Open College Application Hours
DESCRIPTION:Open hours to work on college application\, FAFSA\, essay with John or Karen.
URL:https://futurefive.org/event/open-college-application-hours/2026-04-13/
LOCATION:Future 5
CATEGORIES:College Prep,High School Programing
ATTACH;FMTTYPE=image/png:https://futurefive.org/wp-content/uploads/2025/11/High-School-Programing_Academic-Weapon-Training.png
END:VEVENT
BEGIN:VEVENT
DTSTART;TZID=UTC:20260413T153000
DTEND;TZID=UTC:20260413T173000
DTSTAMP:20260422T062808
CREATED:20260207T003203Z
LAST-MODIFIED:20260210T192731Z
UID:10008139-1776094200-1776101400@futurefive.org
SUMMARY:Boys and Girls Club of Stamford Volunteering
DESCRIPTION:Helping Hands students will support students in Grades K-3 with their homework\, reading\, and other needs they may have in their playground\, etc. \nTo sign up for this event\, click here.
URL:https://futurefive.org/event/helping-hands-boys-and-girls-club-of-stamford-volunteering/2026-04-13/
CATEGORIES:Helping Hands,High School Programing
ATTACH;FMTTYPE=image/png:https://futurefive.org/wp-content/uploads/2026/02/Boys-and-Girls-Club-of-Stamford-Volunteering-.png
END:VEVENT
BEGIN:VEVENT
DTSTART;TZID=UTC:20260413T160000
DTEND;TZID=UTC:20260413T180000
DTSTAMP:20260422T062808
CREATED:20260210T190836Z
LAST-MODIFIED:20260210T190836Z
UID:10008070-1776096000-1776103200@futurefive.org
SUMMARY:Intro to AI
DESCRIPTION:America on Tech’s Intro to AI course will teach students the fundamentals of AI. Upon completion of the course students will create a custom chatbot that solves an appropriate real world problem for high schoolers. Students will also receive a $100 stipend for completing the course as well as a chance to win a laptop!  \nRegistration closed 1/9\, contact a staff member for more details.
URL:https://futurefive.org/event/intro-to-ai-17-2/2026-04-13/
LOCATION:Future 5
CATEGORIES:Academics,High School Programing
ATTACH;FMTTYPE=image/jpeg:https://futurefive.org/wp-content/uploads/2026/01/AI-Workshop.jpg
END:VEVENT
BEGIN:VEVENT
DTSTART;TZID=UTC:20260413T163000
DTEND;TZID=UTC:20260413T180000
DTSTAMP:20260422T062808
CREATED:20251106T233658Z
LAST-MODIFIED:20260210T190910Z
UID:10007048-1776097800-1776103200@futurefive.org
SUMMARY:Math Tutor Office Hours
DESCRIPTION:To sign up for this event\, click here.
URL:https://futurefive.org/event/math-tutor-office-hours-2/2026-04-13/
LOCATION:Future 5
CATEGORIES:Academics,High School Programing
ATTACH;FMTTYPE=image/png:https://futurefive.org/wp-content/uploads/2025/11/High-School-Programing_Math-Tutor-Office-Hours.png
END:VEVENT
END:VCALENDAR